BEGIN:VCALENDAR
VERSION:2.0
PRODID:-//The Morriston Orpheus - ECPv6.15.17//NONSGML v1.0//EN
CALSCALE:GREGORIAN
METHOD:PUBLISH
X-ORIGINAL-URL:https://www.morristonorpheus.com
X-WR-CALDESC:Events for The Morriston Orpheus
REFRESH-INTERVAL;VALUE=DURATION:PT1H
X-Robots-Tag:noindex
X-PUBLISHED-TTL:PT1H
BEGIN:VTIMEZONE
TZID:UTC
BEGIN:STANDARD
TZOFFSETFROM:+0000
TZOFFSETTO:+0000
TZNAME:UTC
DTSTART:20240101T000000
END:STANDARD
END:VTIMEZONE
BEGIN:VEVENT
DTSTART;TZID=UTC:20250301T190000
DTEND;TZID=UTC:20250301T233000
DTSTAMP:20260423T212749
CREATED:20250227T195349Z
LAST-MODIFIED:20250227T195426Z
UID:1775-1740855600-1740871800@www.morristonorpheus.com
SUMMARY:St David's @ Elysium
DESCRIPTION:At David’s Day celebration at The Elysium Bar on High Street in Swansea. Should be a great day.
URL:https://www.morristonorpheus.com/event/1775/
LOCATION:Elysium Gallery and Bar\, 210 High Street\, Swansea\, Swansea\, SA1 1PE
END:VEVENT
END:VCALENDAR