BEGIN:VCALENDAR
VERSION:2.0
PRODID:-//The Morriston Orpheus - ECPv6.15.17//NONSGML v1.0//EN
CALSCALE:GREGORIAN
METHOD:PUBLISH
X-WR-CALNAME:The Morriston Orpheus
X-ORIGINAL-URL:https://www.morristonorpheus.com
X-WR-CALDESC:Events for The Morriston Orpheus
REFRESH-INTERVAL;VALUE=DURATION:PT1H
X-Robots-Tag:noindex
X-PUBLISHED-TTL:PT1H
BEGIN:VTIMEZONE
TZID:UTC
BEGIN:STANDARD
TZOFFSETFROM:+0000
TZOFFSETTO:+0000
TZNAME:UTC
DTSTART:20240101T000000
END:STANDARD
END:VTIMEZONE
BEGIN:VEVENT
DTSTART;TZID=UTC:20250425T190000
DTEND;TZID=UTC:20250425T230000
DTSTAMP:20260423T200604
CREATED:20250311T142011Z
LAST-MODIFIED:20250424T180149Z
UID:1790-1745607600-1745622000@www.morristonorpheus.com
SUMMARY:Social Event - Skewen Rugby Football Club
DESCRIPTION:One of our social events again. \nThere will also be a local DJ. \nIt promises to be a fun evening\, with jokes and friendship all around. \n  \n 
URL:https://www.morristonorpheus.com/event/social-event-skewen-rugby-football-club/
LOCATION:Swansea
END:VEVENT
END:VCALENDAR