BEGIN:VCALENDAR
VERSION:2.0
PRODID:-//The Morriston Orpheus - ECPv6.15.17//NONSGML v1.0//EN
CALSCALE:GREGORIAN
METHOD:PUBLISH
X-ORIGINAL-URL:https://www.morristonorpheus.com
X-WR-CALDESC:Events for The Morriston Orpheus
REFRESH-INTERVAL;VALUE=DURATION:PT1H
X-Robots-Tag:noindex
X-PUBLISHED-TTL:PT1H
BEGIN:VTIMEZONE
TZID:UTC
BEGIN:STANDARD
TZOFFSETFROM:+0000
TZOFFSETTO:+0000
TZNAME:UTC
DTSTART:20240101T000000
END:STANDARD
END:VTIMEZONE
BEGIN:VEVENT
DTSTART;TZID=UTC:20250628T190000
DTEND;TZID=UTC:20250628T220000
DTSTAMP:20260423T170243
CREATED:20250328T171552Z
LAST-MODIFIED:20250525T132917Z
UID:1833-1751137200-1751148000@www.morristonorpheus.com
SUMMARY:Annual Concert - Past\, Present & Future
DESCRIPTION:Book Now\n\n\n \n  \nJoin us on a whirlwind 90th anniversary adventure through time\, revisiting traditional favourites\, introducing you to our new repertoire and giving an exciting glimpse into the choir’s future.\n  \nJump aboard our musical tardis for a magical evening of South Wales’ premium music talent\, including…\n  \n Very special guest\, star of stage and screen\, and fellow Welshman Callum Scott Howells \n\n\n\n The fantastic CATS – Class Act Theatre School Swansea – will also be joining us – they are brilliant\, and will show us what the future of Swansea’ music talent has in store\n\n\n\n And if you’ve never seen them before\, The Alternative Orchestra are a must-see\n\n\n\nIt’s going to be an amazing night. Don’t miss it!\n\nFor more information and to book tickets\, click here. \n\n\n\n\n	Book Now
URL:https://www.morristonorpheus.com/event/annual-concert-past-present-future/
LOCATION:Brangwyn Hall\, Guildhall\, Swansea\, SA1 4PE
END:VEVENT
END:VCALENDAR