BEGIN:VCALENDAR
VERSION:2.0
PRODID:-//The Morriston Orpheus - ECPv6.15.17//NONSGML v1.0//EN
CALSCALE:GREGORIAN
METHOD:PUBLISH
X-ORIGINAL-URL:https://www.morristonorpheus.com
X-WR-CALDESC:Events for The Morriston Orpheus
REFRESH-INTERVAL;VALUE=DURATION:PT1H
X-Robots-Tag:noindex
X-PUBLISHED-TTL:PT1H
BEGIN:VTIMEZONE
TZID:UTC
BEGIN:STANDARD
TZOFFSETFROM:+0000
TZOFFSETTO:+0000
TZNAME:UTC
DTSTART:20240101T000000
END:STANDARD
END:VTIMEZONE
BEGIN:VEVENT
DTSTART;TZID=UTC:20251210T193000
DTEND;TZID=UTC:20251210T213000
DTSTAMP:20260423T110437
CREATED:20251113T121749Z
LAST-MODIFIED:20251113T123908Z
UID:1991-1765395000-1765402200@www.morristonorpheus.com
SUMMARY:Carols Around The Fire - Welcome Inn
DESCRIPTION:A Pint\, a Carol\, and a Cwtch of Christmas Cheer! \nThe Morriston Orpheus Choir is back at The Welcome Inn for our annual Christmas celebration\, and you’re invited! Come and raise a glass and your voice with us as we continue the festivities for our 90th anniversary year. \nWhat to Expect: \n\nA joyful mix of classic carols and rousing Welsh anthems.\nOur very best attempt at some Christmas pop classics!\nA warm\, festive atmosphere with food\, fun\, and fantastic company.\nA night of pure\, unadulterated Christmas spirit.\n\nThe Details: \n\nBooking: We recommend booking if you need a seat or wish to eat\, but there’s plenty of room for all.\nParking: Ample parking is available.\n\nYour voice is the most important part! Come ready to sing your heart out and share in the joy and warmth that have made our 90th year so special. See you there!
URL:https://www.morristonorpheus.com/event/carols-around-the-fire-welcome-inn/
LOCATION:The Welcome Inn\, Mynyddbach Common\, Swansea\, SA5 7HT
ATTACH;FMTTYPE=image/jpeg:https://www.morristonorpheus.com/wp-content/uploads/2025/11/Christmas-Welcome-Inn-2025.jpg
END:VEVENT
BEGIN:VEVENT
DTSTART;VALUE=DATE:20251214
DTEND;VALUE=DATE:20251215
DTSTAMP:20260423T110437
CREATED:20251109T065423Z
LAST-MODIFIED:20251113T082659Z
UID:1996-1765670400-1765756799@www.morristonorpheus.com
SUMMARY:Tŷ Olwen Hospice - Private Event
DESCRIPTION:The Morriston Orpheus return to the Tŷ Olwen Hospice in Morriston Hospital to bring some Christmas cheer and share the love and joy of song. \n  \nThe event is private.  If you wish to support Tŷ Olwen\, you can do so by visiting the Tŷ Olwen Trust website here.
URL:https://www.morristonorpheus.com/event/ty-olwen-hospice-private-event/
ATTACH;FMTTYPE=image/jpeg:https://www.morristonorpheus.com/wp-content/uploads/2025/11/Ty-Olwen-Banner.jpg
END:VEVENT
BEGIN:VEVENT
DTSTART;TZID=UTC:20251214T193000
DTEND;TZID=UTC:20251214T220000
DTSTAMP:20260423T110437
CREATED:20251202T120457Z
LAST-MODIFIED:20251202T120457Z
UID:2009-1765740600-1765749600@www.morristonorpheus.com
SUMMARY:Yuletide Greetings @ The Red Lion
DESCRIPTION:The Morriston Orpheus Choir is back at The Red Lion Inn for our annual Christmas celebration\, and you’re invited! Come and raise a glass and your voice with us as we continue the festivities for our 90th anniversary year. \nWhat to Expect: \n\nA joyful mix of classic carols and rousing Welsh anthems.\nOur very best attempt at some Christmas pop classics!\nA warm\, festive atmosphere with food\, fun\, and fantastic company.\nA night of pure\, unadulterated Christmas spirit.\n\nHere we are last year\, accompanied by our Assistant MD\, Iuean Jones. \n \nYour voice is the most important part! Come ready to sing your heart out and share in the joy and warmth that have made our 90th year so special. See you there! \n 
URL:https://www.morristonorpheus.com/event/yuletide-greetings-the-red-lion/
LOCATION:The Red Lion\, 49 Sway Road\, Morriston\, Swansea\, SA6 6JA
ATTACH;FMTTYPE=image/jpeg:https://www.morristonorpheus.com/wp-content/uploads/2025/12/Christmas-CAROLS-at-The-Red-Lion-1.jpg
END:VEVENT
BEGIN:VEVENT
DTSTART;TZID=UTC:20251217T180000
DTEND;TZID=UTC:20251217T200000
DTSTAMP:20260423T110437
CREATED:20250730T195840Z
LAST-MODIFIED:20250730T195840Z
UID:1943-1765994400-1766001600@www.morristonorpheus.com
SUMMARY:Private Event
DESCRIPTION:
URL:https://www.morristonorpheus.com/event/private-event-2/
END:VEVENT
BEGIN:VEVENT
DTSTART;VALUE=DATE:20260226
DTEND;VALUE=DATE:20260227
DTSTAMP:20260423T110437
CREATED:20260215T151429Z
LAST-MODIFIED:20260228T145512Z
UID:2020-1772064000-1772150399@www.morristonorpheus.com
SUMMARY:Private Event - The Law Society
DESCRIPTION:
URL:https://www.morristonorpheus.com/event/private-event-3/
END:VEVENT
BEGIN:VEVENT
DTSTART;TZID=UTC:20260301T193000
DTEND;TZID=UTC:20260301T223000
DTSTAMP:20260423T110437
CREATED:20260217T124155Z
LAST-MODIFIED:20260217T134224Z
UID:2053-1772393400-1772404200@www.morristonorpheus.com
SUMMARY:St. David's Day Celebration
DESCRIPTION:We return once again to the wonderful Uplands Tavern on the evening of St. David’s Day. \n \n  \nWhat better way to celebrate St David’s Day than joining us for a performance and a bit of a sing-along? \nEntry is free\, the atmosphere is amazing\, and the choristers will be socializing and celebrating along with everyone else. \nThis is our only public community event in a string of events we have lined up for St. David’s Day\, as we come to the close of our 90th Anniversary year-long festivities. \nDon’t miss out on a truly magical evening. \nThis project is supported by the ‘Mynydd y Gwair Community Fund’.
URL:https://www.morristonorpheus.com/event/st-davids-day-celebration/
LOCATION:The Uplands Tavern\, 42 Uplands Crescent\, Uplands\, Swansea\, SA2 0PG
END:VEVENT
BEGIN:VEVENT
DTSTART;VALUE=DATE:20260304
DTEND;VALUE=DATE:20260305
DTSTAMP:20260423T110437
CREATED:20260228T145401Z
LAST-MODIFIED:20260228T145401Z
UID:2068-1772582400-1772668799@www.morristonorpheus.com
SUMMARY:Private Event - Pentrechwyth School
DESCRIPTION:We will be heading to Pentrechwyth School to share the joy of song with the children as part of their Welsh Week celebrations 🎶 \nNote: this is a strictly private event by invitation only. \nSupported by the ‘Mynydd y Gwair Community Fund’.
URL:https://www.morristonorpheus.com/event/private-event-pentrechwyth-school/
END:VEVENT
BEGIN:VEVENT
DTSTART;TZID=UTC:20260327T190000
DTEND;TZID=UTC:20260327T220000
DTSTAMP:20260423T110437
CREATED:20260215T152656Z
LAST-MODIFIED:20260215T214956Z
UID:2022-1774638000-1774648800@www.morristonorpheus.com
SUMMARY:Voices of Distinction - with the Sonara Singers
DESCRIPTION:Book Now\n\nThe first joint concert of our mini-tour of Derbyshire & Nottinghamshire\, with the wonderful Sonara Singers. \nJoin us for an unforgettable evening of choral excellence as two historic choirs celebrate 90 years of singing and friendship in harmony. \nWe also have very special performances from two other outstanding musicians – Nicola Hunt (Mezzo Soprano) and Lorna Flear on piano. \nPlease join us at the prestigious Cavendish Hall for an outstanding evening of music 🎶🎵🎶 \nTickets are £15 and available here.
URL:https://www.morristonorpheus.com/event/voices-of-distinction-with-the-sonara-singers/
LOCATION:The Cavendish Hall\, Chatsworth\, Edensor\, Bakewell\, Derbyshire\, DE45 1PJ
ATTACH;FMTTYPE=image/jpeg:https://www.morristonorpheus.com/wp-content/uploads/2026/02/Sonara-Feature.jpg
END:VEVENT
BEGIN:VEVENT
DTSTART;TZID=UTC:20260328T190000
DTEND;TZID=UTC:20260328T220000
DTSTAMP:20260423T110437
CREATED:20260215T175858Z
LAST-MODIFIED:20260216T112205Z
UID:2028-1774724400-1774735200@www.morristonorpheus.com
SUMMARY:Spring Gala Concert with Mansfield MVC
DESCRIPTION:Book Now\n\nThe second of our joint concerts on our mini Derbyshire & Nottinghamshire tour will be with the renowned Mansfield & District Male Voice Choir. \nMansfield choir was inaugurated in 1944 and has won over 50 first places in national competitions and were kindly granted the Freedom of Mansfield by former Mayor Kate Allsop to mark their 75th Anniversary in 2019. Sell out concerts are the norm including their 80th anniversary concert in Southwell Minster. \nWork is underway to prepare a concert of soaring male voice choir music which will undoubtedly include some stunning Welsh pieces as well as modern songs and male voice choir classics. We\, and many of our local audience members are anticipating a great event and the informal table layout at Mansfield Rugby Club\, Eakring Road Mansfield\, NG18 3EW\, will make for a relaxed evening of song and fun. \nCome and join us on Saturday 28th March 2026 at 7pm. Tickets cost £15 and are available from Eileen Lawrence\, Mansfield & District MVC Choir Secretary\, on 01623 455373 or online here. See you there!
URL:https://www.morristonorpheus.com/event/spring-gala-concert-with-mansfield-mvc/
LOCATION:Mansfield Rugby Club\, Eakring Road\, Mansfield\, Nottinghamshire\, NG18 3EW
ATTACH;FMTTYPE=image/jpeg:https://www.morristonorpheus.com/wp-content/uploads/2026/02/Mansfield-Feature.jpg
END:VEVENT
BEGIN:VEVENT
DTSTART;VALUE=DATE:20260606
DTEND;VALUE=DATE:20260607
DTSTAMP:20260423T110437
CREATED:20260215T180553Z
LAST-MODIFIED:20260215T180553Z
UID:2035-1780704000-1780790399@www.morristonorpheus.com
SUMMARY:Private Event - Wedding
DESCRIPTION:
URL:https://www.morristonorpheus.com/event/private-event-wedding/
END:VEVENT
BEGIN:VEVENT
DTSTART;VALUE=DATE:20260627
DTEND;VALUE=DATE:20260628
DTSTAMP:20260423T110437
CREATED:20260215T180625Z
LAST-MODIFIED:20260215T180625Z
UID:2037-1782518400-1782604799@www.morristonorpheus.com
SUMMARY:Private Event - Wedding
DESCRIPTION:
URL:https://www.morristonorpheus.com/event/private-event-wedding-2/
END:VEVENT
BEGIN:VEVENT
DTSTART;VALUE=DATE:20260918
DTEND;VALUE=DATE:20260919
DTSTAMP:20260423T110437
CREATED:20260215T180707Z
LAST-MODIFIED:20260215T180707Z
UID:2039-1789689600-1789775999@www.morristonorpheus.com
SUMMARY:Private Event - Wedding
DESCRIPTION:
URL:https://www.morristonorpheus.com/event/private-event-wedding-3/
END:VEVENT
BEGIN:VEVENT
DTSTART;TZID=UTC:20260927T160000
DTEND;TZID=UTC:20260927T190000
DTSTAMP:20260423T110437
CREATED:20260217T194839Z
LAST-MODIFIED:20260217T194839Z
UID:2065-1790524800-1790535600@www.morristonorpheus.com
SUMMARY:MOCSA Annual Concert - Save the Date
DESCRIPTION:We are happy to confirm the return of the MOCSA Annual Concert for 2026. \nWatch this space for details following the Young Welsh Singer of the Year competition in June. \nThis year we are returning to the wonderful Margam Orangery.
URL:https://www.morristonorpheus.com/event/mocsa-annual-concert-save-the-date/
LOCATION:Margam Orangery\, Margam Park\, Neath Port Talbot\, SA13 2TJ
END:VEVENT
END:VCALENDAR