BEGIN:VCALENDAR
VERSION:2.0
PRODID:-//The Morriston Orpheus - ECPv6.15.17//NONSGML v1.0//EN
CALSCALE:GREGORIAN
METHOD:PUBLISH
X-WR-CALNAME:The Morriston Orpheus
X-ORIGINAL-URL:https://www.morristonorpheus.com
X-WR-CALDESC:Events for The Morriston Orpheus
REFRESH-INTERVAL;VALUE=DURATION:PT1H
X-Robots-Tag:noindex
X-PUBLISHED-TTL:PT1H
BEGIN:VTIMEZONE
TZID:UTC
BEGIN:STANDARD
TZOFFSETFROM:+0000
TZOFFSETTO:+0000
TZNAME:UTC
DTSTART:20230101T000000
END:STANDARD
END:VTIMEZONE
BEGIN:VEVENT
DTSTART;TZID=UTC:20241122T190000
DTEND;TZID=UTC:20241122T213000
DTSTAMP:20260423T112146
CREATED:20241014T103658Z
LAST-MODIFIED:20241111T144305Z
UID:659-1732302000-1732311000@www.morristonorpheus.com
SUMMARY:Joint Morriston Orpheus and Pendyrus Concert – "For One Night Only"
DESCRIPTION:After a successful combination of the Orpheus and Pendyrus at the Orpheus’ June 2023 Annual Concert\, the favour is returned as the Orpheus travel to support Pendyrus at their “For One Night Only” Concertat St Elvan’s Church\, Church Street\, Aberdare Cynon Valley. Guest artist is BBC Wales’s Bronwen Lewis. \n 
URL:https://www.morristonorpheus.com/event/pendyrus-male-voice-choir-annual-concert-22-november-2024/
LOCATION:St Elvan’s Church\, Church Street\, Aberdare\, Cynon Valley\, CF44 7AB
END:VEVENT
BEGIN:VEVENT
DTSTART;TZID=UTC:20241110T143000
DTEND;TZID=UTC:20241110T160000
DTSTAMP:20260423T112146
CREATED:20241014T110503Z
LAST-MODIFIED:20241102T114431Z
UID:665-1731249000-1731254400@www.morristonorpheus.com
SUMMARY:Royal British Legion\, Swansea\, Remembrance Service 10 November 2024
DESCRIPTION:
URL:https://www.morristonorpheus.com/event/royal-british-legion-swansea-branch-remembrance-service-10-november-2024/
LOCATION:St Mary’s Church Swansea
END:VEVENT
BEGIN:VEVENT
DTSTART;TZID=UTC:20241025T191500
DTEND;TZID=UTC:20241025T210000
DTSTAMP:20260423T112146
CREATED:20241013T103513Z
LAST-MODIFIED:20241013T103513Z
UID:610-1729883700-1729890000@www.morristonorpheus.com
SUMMARY:Pride: 10th Anniversary Special
DESCRIPTION:The Orpheus are thrilled to be supporting this remarkable throwback event\, where we celebrate 10 years of the movie “Pride”\, joined by live choirs and a live orchestra. \nIt is definitely not one to be missed!
URL:https://www.morristonorpheus.com/event/pride-10th-anniversary-special/
LOCATION:Swansea Arena\, Oystermouth Road\, Swansea\, Swansea\, SA1 3BX\, United Kingdom
END:VEVENT
END:VCALENDAR