BEGIN:VCALENDAR
VERSION:2.0
PRODID:-//The Morriston Orpheus - ECPv6.15.17//NONSGML v1.0//EN
CALSCALE:GREGORIAN
METHOD:PUBLISH
X-ORIGINAL-URL:https://www.morristonorpheus.com
X-WR-CALDESC:Events for The Morriston Orpheus
REFRESH-INTERVAL;VALUE=DURATION:PT1H
X-Robots-Tag:noindex
X-PUBLISHED-TTL:PT1H
BEGIN:VTIMEZONE
TZID:UTC
BEGIN:STANDARD
TZOFFSETFROM:+0000
TZOFFSETTO:+0000
TZNAME:UTC
DTSTART:20240101T000000
END:STANDARD
END:VTIMEZONE
BEGIN:VEVENT
DTSTART;TZID=UTC:20250215T193000
DTEND;TZID=UTC:20250215T220000
DTSTAMP:20260423T212846
CREATED:20241218T153933Z
LAST-MODIFIED:20250106T201815Z
UID:771-1739647800-1739656800@www.morristonorpheus.com
SUMMARY:Magic of the Movies & Musicals
DESCRIPTION:The Morriston Orpheus Choir starts off its 90th Anniversary year with an exciting themed concert. \nWe are proud to welcome Neath’s own Allegro singers plus some very special guests that we will be announcing soon. \nTickets are available from the Gwyn Hall ticket booking office (gwynhall@celticleisure.org or call 0300 365 6677) and members of the Choir. \nTickets can also be purchased online here. \nThis promises to be an exciting event where the Orpheus will sing classics memorable from decades of musicals\, movies and of course the choir itself! \n 
URL:https://www.morristonorpheus.com/event/songs-from-the-shows/
LOCATION:Gwyn Hall\, Neath\, Neath\, United Kingdom
END:VEVENT
END:VCALENDAR