BEGIN:VCALENDAR
VERSION:2.0
PRODID:-//The Morriston Orpheus - ECPv6.15.17//NONSGML v1.0//EN
CALSCALE:GREGORIAN
METHOD:PUBLISH
X-ORIGINAL-URL:https://www.morristonorpheus.com
X-WR-CALDESC:Events for The Morriston Orpheus
REFRESH-INTERVAL;VALUE=DURATION:PT1H
X-Robots-Tag:noindex
X-PUBLISHED-TTL:PT1H
BEGIN:VTIMEZONE
TZID:UTC
BEGIN:STANDARD
TZOFFSETFROM:+0000
TZOFFSETTO:+0000
TZNAME:UTC
DTSTART:20240101T000000
END:STANDARD
END:VTIMEZONE
BEGIN:VEVENT
DTSTART;VALUE=DATE:20250517
DTEND;VALUE=DATE:20250518
DTSTAMP:20260423T170413
CREATED:20250311T143447Z
LAST-MODIFIED:20250311T143947Z
UID:1792-1747440000-1747526399@www.morristonorpheus.com
SUMMARY:Dinas Powys Festival
DESCRIPTION:This promises to be an exciting event. \nThe Dinas Powys Annual Festival always attracts the very best of Welsh tradition. It is more than a musical experience\, there is far more you can take away. \nWe will be seeing the evening through\, as daylight turns to dusk.  It should be spectacular.
URL:https://www.morristonorpheus.com/event/dinas-powys-festival/
LOCATION:Dinas Dowys Parish Hall\, Britway Road\, Dinas Powys\, CF64 4AF
END:VEVENT
END:VCALENDAR