BEGIN:VCALENDAR
VERSION:2.0
PRODID:-//The Morriston Orpheus - ECPv6.15.17//NONSGML v1.0//EN
CALSCALE:GREGORIAN
METHOD:PUBLISH
X-ORIGINAL-URL:https://www.morristonorpheus.com
X-WR-CALDESC:Events for The Morriston Orpheus
REFRESH-INTERVAL;VALUE=DURATION:PT1H
X-Robots-Tag:noindex
X-PUBLISHED-TTL:PT1H
BEGIN:VTIMEZONE
TZID:UTC
BEGIN:STANDARD
TZOFFSETFROM:+0000
TZOFFSETTO:+0000
TZNAME:UTC
DTSTART:20240101T000000
END:STANDARD
END:VTIMEZONE
BEGIN:VEVENT
DTSTART;TZID=UTC:20250914T081000
DTEND;TZID=UTC:20250914T084800
DTSTAMP:20260423T110021
CREATED:20250830T211433Z
LAST-MODIFIED:20250830T212227Z
UID:1976-1757837400-1757839680@www.morristonorpheus.com
SUMMARY:BBC Radio 4 Sunday Worship
DESCRIPTION:The Invitation of Heaven\n\nVisit the BBC Sunday Worship Page\n\n\n\n\n\n\n\n\n  \nFrom the BBC Website: \nThis week’s Sunday Worship comes from the historic Mynyddbach Chapel in North Swansea\, home to the Calon Lan Centre. The renowned Morriston Orpheus Choir marks its 90th anniversary with stirring performances that echo decades of Welsh choral tradition. The preacher is Heulwen Davies\, Pastor at 21st Century Church in Llanelli. \nReadings: John 10:1-11 and Psalm 51:1-10 \nMusic includes:\nAmazing Grace\nDeus Salutis\nGwahoddiad\nCalon Lan
URL:https://www.morristonorpheus.com/event/bbc-radio-4-sunday-worship/
END:VEVENT
BEGIN:VEVENT
DTSTART;TZID=UTC:20250914T160000
DTEND;TZID=UTC:20250914T180000
DTSTAMP:20260423T110021
CREATED:20250730T192651Z
LAST-MODIFIED:20250730T192938Z
UID:1937-1757865600-1757872800@www.morristonorpheus.com
SUMMARY:MOCSA Annual 2025
DESCRIPTION:The 2025 MOCSA Annual Concert will feature the Morriston Orpheus Choir together with the winner and runner up from this year’s MOCSA Young Welsh Singer of the Year Competition. \nThe Competition\, which attracts entries from the top classical music colleges in the UK\, was held in June and the winner is Owain Rowlands a 25 year old baritone from Llandeilo. Joining Owain and the Choir at the concert will be the Competition runner up\, John Rhys Liddington\, a 24 year old baritone from Llantrisant. Both Owain and John studied at The Royal Welsh College of Music and Drama. \n  \n \n  \nTickets are also available here.
URL:https://www.morristonorpheus.com/event/mocsa-annual-2025/
LOCATION:Calon Lân Centre\, Mynyddbach Chapel\, Tirdeunaw\, Swansea\, SA5 7HT
END:VEVENT
BEGIN:VEVENT
DTSTART;TZID=UTC:20250920T190000
DTEND;TZID=UTC:20250920T210000
DTSTAMP:20260423T110021
CREATED:20250817T103334Z
LAST-MODIFIED:20250817T104645Z
UID:1962-1758394800-1758402000@www.morristonorpheus.com
SUMMARY:Choral Landscapes
DESCRIPTION:Book Now\n\n \nJoin us for an Enchanting Evening of Choral Harmony at St. Samlet’s Church! \nGet ready to be swept away by the powerful melodies and rich harmonies of the Morriston Orpheus and our friends the Dalesmen Male Voice Choir\, who join us all the way from Belpar in Derbyshire!\nOn 20th September\, the historic St. Samlet’s Church in Llansamlet will come alive with an extraordinary joint concert that promises to be a feast for the senses. \nAs the evening unfolds\, you’ll experience a tapestry of traditional and contemporary choral pieces that celebrate the incredible talent of these two renowned choirs. \nAdding an extra layer of magic to the musical experience\, we’re excited to welcome a guest soloist whose remarkable voice will elevate the evening even further. \nWhether you’re a lifelong choral enthusiast or a newcomer to the world of male voice singing\, this concert is a wonderful opportunity to immerse yourself in the beauty of community music.  Bring your friends and family\, and prepare for an unforgettable night filled with camaraderie\, joy\, and ​the uplifting spirit of song. \n\n\nBook Now
URL:https://www.morristonorpheus.com/event/choral-landscapes/
LOCATION:St. Samlet’s Church\, Church Road\, Llansamlet\, Swansea\, SA7 9RL
END:VEVENT
END:VCALENDAR